BEGIN:VCALENDAR
VERSION:2.0
PRODID:-//schuhmeile.com - ECPv6.15.20//NONSGML v1.0//EN
CALSCALE:GREGORIAN
METHOD:PUBLISH
X-WR-CALNAME:schuhmeile.com
X-ORIGINAL-URL:https://www.schuhmeile.com
X-WR-CALDESC:Veranstaltungen für schuhmeile.com
REFRESH-INTERVAL;VALUE=DURATION:PT1H
X-Robots-Tag:noindex
X-PUBLISHED-TTL:PT1H
BEGIN:VTIMEZONE
TZID:Europe/Berlin
BEGIN:DAYLIGHT
TZOFFSETFROM:+0100
TZOFFSETTO:+0200
TZNAME:CEST
DTSTART:20250330T010000
END:DAYLIGHT
BEGIN:STANDARD
TZOFFSETFROM:+0200
TZOFFSETTO:+0100
TZNAME:CET
DTSTART:20251026T010000
END:STANDARD
BEGIN:DAYLIGHT
TZOFFSETFROM:+0100
TZOFFSETTO:+0200
TZNAME:CEST
DTSTART:20260329T010000
END:DAYLIGHT
BEGIN:STANDARD
TZOFFSETFROM:+0200
TZOFFSETTO:+0100
TZNAME:CET
DTSTART:20261025T010000
END:STANDARD
BEGIN:DAYLIGHT
TZOFFSETFROM:+0100
TZOFFSETTO:+0200
TZNAME:CEST
DTSTART:20270328T010000
END:DAYLIGHT
BEGIN:STANDARD
TZOFFSETFROM:+0200
TZOFFSETTO:+0100
TZNAME:CET
DTSTART:20271031T010000
END:STANDARD
END:VTIMEZONE
BEGIN:VEVENT
DTSTART;TZID=Europe/Berlin:20260418T100000
DTEND;TZID=Europe/Berlin:20260418T180000
DTSTAMP:20260419T153830
CREATED:20251105T120018Z
LAST-MODIFIED:20251107T075849Z
UID:10001371-1776506400-1776535200@www.schuhmeile.com
SUMMARY:Schuhmeile geöffnet
DESCRIPTION:
URL:https://www.schuhmeile.com/event/schuhmeile-geoeffnet/2026-04-18/
LOCATION:Schuhmeile Hauenstein\, Hauenstein\, Rheinland-Pfalz\, Germany
CATEGORIES:Öffnungszeiten
END:VEVENT
BEGIN:VEVENT
DTSTART;TZID=Europe/Berlin:20260418T100000
DTEND;TZID=Europe/Berlin:20260418T153000
DTSTAMP:20260419T153830
CREATED:20251111T142204Z
LAST-MODIFIED:20251111T144150Z
UID:10010368-1776506400-1776526200@www.schuhmeile.com
SUMMARY:Open - Montag bis Samstag: 10.00 bis 18.00 Uhr
DESCRIPTION:
URL:https://www.schuhmeile.com/event/montag-bis-samstag-10-00-bis-18-00-uhr-2/2026-04-18/
LOCATION:Schuhmeile Hauenstein\, Hauenstein\, Rheinland-Pfalz\, Germany
CATEGORIES:Uhrzeiten für Header
END:VEVENT
BEGIN:VEVENT
DTSTART;TZID=Europe/Berlin:20260417T100000
DTEND;TZID=Europe/Berlin:20260417T180000
DTSTAMP:20260419T153830
CREATED:20251105T120018Z
LAST-MODIFIED:20251107T075849Z
UID:10001734-1776420000-1776448800@www.schuhmeile.com
SUMMARY:Schuhmeile geöffnet
DESCRIPTION:
URL:https://www.schuhmeile.com/event/schuhmeile-geoeffnet/2026-04-17/
LOCATION:Schuhmeile Hauenstein\, Hauenstein\, Rheinland-Pfalz\, Germany
CATEGORIES:Öffnungszeiten
END:VEVENT
BEGIN:VEVENT
DTSTART;TZID=Europe/Berlin:20260417T100000
DTEND;TZID=Europe/Berlin:20260417T153000
DTSTAMP:20260419T153830
CREATED:20251111T142204Z
LAST-MODIFIED:20251111T144150Z
UID:10010367-1776420000-1776439800@www.schuhmeile.com
SUMMARY:Open - Montag bis Samstag: 10.00 bis 18.00 Uhr
DESCRIPTION:
URL:https://www.schuhmeile.com/event/montag-bis-samstag-10-00-bis-18-00-uhr-2/2026-04-17/
LOCATION:Schuhmeile Hauenstein\, Hauenstein\, Rheinland-Pfalz\, Germany
CATEGORIES:Uhrzeiten für Header
END:VEVENT
BEGIN:VEVENT
DTSTART;TZID=Europe/Berlin:20260416T100000
DTEND;TZID=Europe/Berlin:20260416T180000
DTSTAMP:20260419T153830
CREATED:20251105T120018Z
LAST-MODIFIED:20251107T075849Z
UID:10000159-1776333600-1776362400@www.schuhmeile.com
SUMMARY:Schuhmeile geöffnet
DESCRIPTION:
URL:https://www.schuhmeile.com/event/schuhmeile-geoeffnet/2026-04-16/
LOCATION:Schuhmeile Hauenstein\, Hauenstein\, Rheinland-Pfalz\, Germany
CATEGORIES:Öffnungszeiten
END:VEVENT
BEGIN:VEVENT
DTSTART;TZID=Europe/Berlin:20260416T100000
DTEND;TZID=Europe/Berlin:20260416T153000
DTSTAMP:20260419T153830
CREATED:20251111T142204Z
LAST-MODIFIED:20251111T144150Z
UID:10010366-1776333600-1776353400@www.schuhmeile.com
SUMMARY:Open - Montag bis Samstag: 10.00 bis 18.00 Uhr
DESCRIPTION:
URL:https://www.schuhmeile.com/event/montag-bis-samstag-10-00-bis-18-00-uhr-2/2026-04-16/
LOCATION:Schuhmeile Hauenstein\, Hauenstein\, Rheinland-Pfalz\, Germany
CATEGORIES:Uhrzeiten für Header
END:VEVENT
BEGIN:VEVENT
DTSTART;TZID=Europe/Berlin:20260415T100000
DTEND;TZID=Europe/Berlin:20260415T180000
DTSTAMP:20260419T153830
CREATED:20251105T120018Z
LAST-MODIFIED:20251107T075849Z
UID:10001733-1776247200-1776276000@www.schuhmeile.com
SUMMARY:Schuhmeile geöffnet
DESCRIPTION:
URL:https://www.schuhmeile.com/event/schuhmeile-geoeffnet/2026-04-15/
LOCATION:Schuhmeile Hauenstein\, Hauenstein\, Rheinland-Pfalz\, Germany
CATEGORIES:Öffnungszeiten
END:VEVENT
BEGIN:VEVENT
DTSTART;TZID=Europe/Berlin:20260414T100000
DTEND;TZID=Europe/Berlin:20260414T180000
DTSTAMP:20260419T153830
CREATED:20251105T120018Z
LAST-MODIFIED:20251107T075849Z
UID:10001732-1776160800-1776189600@www.schuhmeile.com
SUMMARY:Schuhmeile geöffnet
DESCRIPTION:
URL:https://www.schuhmeile.com/event/schuhmeile-geoeffnet/2026-04-14/
LOCATION:Schuhmeile Hauenstein\, Hauenstein\, Rheinland-Pfalz\, Germany
CATEGORIES:Öffnungszeiten
END:VEVENT
BEGIN:VEVENT
DTSTART;TZID=Europe/Berlin:20260414T100000
DTEND;TZID=Europe/Berlin:20260414T153000
DTSTAMP:20260419T153830
CREATED:20251111T142204Z
LAST-MODIFIED:20251111T144150Z
UID:10009755-1776160800-1776180600@www.schuhmeile.com
SUMMARY:Open - Montag bis Samstag: 10.00 bis 18.00 Uhr
DESCRIPTION:
URL:https://www.schuhmeile.com/event/montag-bis-samstag-10-00-bis-18-00-uhr-2/2026-04-14/
LOCATION:Schuhmeile Hauenstein\, Hauenstein\, Rheinland-Pfalz\, Germany
CATEGORIES:Uhrzeiten für Header
END:VEVENT
BEGIN:VEVENT
DTSTART;TZID=Europe/Berlin:20260413T100000
DTEND;TZID=Europe/Berlin:20260413T180000
DTSTAMP:20260419T153830
CREATED:20251105T120018Z
LAST-MODIFIED:20251107T075849Z
UID:10001731-1776074400-1776103200@www.schuhmeile.com
SUMMARY:Schuhmeile geöffnet
DESCRIPTION:
URL:https://www.schuhmeile.com/event/schuhmeile-geoeffnet/2026-04-13/
LOCATION:Schuhmeile Hauenstein\, Hauenstein\, Rheinland-Pfalz\, Germany
CATEGORIES:Öffnungszeiten
END:VEVENT
BEGIN:VEVENT
DTSTART;TZID=Europe/Berlin:20260413T100000
DTEND;TZID=Europe/Berlin:20260413T153000
DTSTAMP:20260419T153830
CREATED:20251111T142204Z
LAST-MODIFIED:20251111T144150Z
UID:10010364-1776074400-1776094200@www.schuhmeile.com
SUMMARY:Open - Montag bis Samstag: 10.00 bis 18.00 Uhr
DESCRIPTION:
URL:https://www.schuhmeile.com/event/montag-bis-samstag-10-00-bis-18-00-uhr-2/2026-04-13/
LOCATION:Schuhmeile Hauenstein\, Hauenstein\, Rheinland-Pfalz\, Germany
CATEGORIES:Uhrzeiten für Header
END:VEVENT
BEGIN:VEVENT
DTSTART;TZID=Europe/Berlin:20260412T130000
DTEND;TZID=Europe/Berlin:20260412T180000
DTSTAMP:20260419T153830
CREATED:20251104T121534Z
LAST-MODIFIED:20251106T150656Z
UID:10000007-1775998800-1776016800@www.schuhmeile.com
SUMMARY:Verkaufsoffener Sonntag
DESCRIPTION:Die Geschäfte der Schuhmeile haben von 13.00 bis 18.00 Uhr für Sie geöffnet.
URL:https://www.schuhmeile.com/event/verkaufsoffener-sonntag/2026-04-12/
LOCATION:Schuhmeile Hauenstein\, Hauenstein\, Rheinland-Pfalz\, Germany
CATEGORIES:Öffnungszeiten
END:VEVENT
BEGIN:VEVENT
DTSTART;VALUE=DATE:20260412
DTEND;VALUE=DATE:20260413
DTSTAMP:20260419T153830
CREATED:20251111T110340Z
LAST-MODIFIED:20251111T122627Z
UID:10011581-1775952000-1776038399@www.schuhmeile.com
SUMMARY:Heute geschlossen
DESCRIPTION:
URL:https://www.schuhmeile.com/event/heute-geschlossen-3/2026-04-12/
LOCATION:Schuhmeile Hauenstein\, Hauenstein\, Rheinland-Pfalz\, Germany
CATEGORIES:Uhrzeiten für Header
END:VEVENT
BEGIN:VEVENT
DTSTART;TZID=Europe/Berlin:20260411T100000
DTEND;TZID=Europe/Berlin:20260411T180000
DTSTAMP:20260419T153830
CREATED:20251105T120018Z
LAST-MODIFIED:20251107T075849Z
UID:10001370-1775901600-1775930400@www.schuhmeile.com
SUMMARY:Schuhmeile geöffnet
DESCRIPTION:
URL:https://www.schuhmeile.com/event/schuhmeile-geoeffnet/2026-04-11/
LOCATION:Schuhmeile Hauenstein\, Hauenstein\, Rheinland-Pfalz\, Germany
CATEGORIES:Öffnungszeiten
END:VEVENT
BEGIN:VEVENT
DTSTART;TZID=Europe/Berlin:20260411T100000
DTEND;TZID=Europe/Berlin:20260411T153000
DTSTAMP:20260419T153830
CREATED:20251111T142204Z
LAST-MODIFIED:20251111T144150Z
UID:10010363-1775901600-1775921400@www.schuhmeile.com
SUMMARY:Open - Montag bis Samstag: 10.00 bis 18.00 Uhr
DESCRIPTION:
URL:https://www.schuhmeile.com/event/montag-bis-samstag-10-00-bis-18-00-uhr-2/2026-04-11/
LOCATION:Schuhmeile Hauenstein\, Hauenstein\, Rheinland-Pfalz\, Germany
CATEGORIES:Uhrzeiten für Header
END:VEVENT
BEGIN:VEVENT
DTSTART;TZID=Europe/Berlin:20260410T100000
DTEND;TZID=Europe/Berlin:20260410T180000
DTSTAMP:20260419T153830
CREATED:20251105T120018Z
LAST-MODIFIED:20251107T075849Z
UID:10001729-1775815200-1775844000@www.schuhmeile.com
SUMMARY:Schuhmeile geöffnet
DESCRIPTION:
URL:https://www.schuhmeile.com/event/schuhmeile-geoeffnet/2026-04-10/
LOCATION:Schuhmeile Hauenstein\, Hauenstein\, Rheinland-Pfalz\, Germany
CATEGORIES:Öffnungszeiten
END:VEVENT
BEGIN:VEVENT
DTSTART;TZID=Europe/Berlin:20260410T100000
DTEND;TZID=Europe/Berlin:20260410T153000
DTSTAMP:20260419T153830
CREATED:20251111T142204Z
LAST-MODIFIED:20251111T144150Z
UID:10010362-1775815200-1775835000@www.schuhmeile.com
SUMMARY:Open - Montag bis Samstag: 10.00 bis 18.00 Uhr
DESCRIPTION:
URL:https://www.schuhmeile.com/event/montag-bis-samstag-10-00-bis-18-00-uhr-2/2026-04-10/
LOCATION:Schuhmeile Hauenstein\, Hauenstein\, Rheinland-Pfalz\, Germany
CATEGORIES:Uhrzeiten für Header
END:VEVENT
BEGIN:VEVENT
DTSTART;TZID=Europe/Berlin:20260409T100000
DTEND;TZID=Europe/Berlin:20260409T180000
DTSTAMP:20260419T153830
CREATED:20251105T120018Z
LAST-MODIFIED:20251107T075849Z
UID:10000154-1775728800-1775757600@www.schuhmeile.com
SUMMARY:Schuhmeile geöffnet
DESCRIPTION:
URL:https://www.schuhmeile.com/event/schuhmeile-geoeffnet/2026-04-09/
LOCATION:Schuhmeile Hauenstein\, Hauenstein\, Rheinland-Pfalz\, Germany
CATEGORIES:Öffnungszeiten
END:VEVENT
BEGIN:VEVENT
DTSTART;TZID=Europe/Berlin:20260409T100000
DTEND;TZID=Europe/Berlin:20260409T153000
DTSTAMP:20260419T153830
CREATED:20251111T142204Z
LAST-MODIFIED:20251111T144150Z
UID:10010361-1775728800-1775748600@www.schuhmeile.com
SUMMARY:Open - Montag bis Samstag: 10.00 bis 18.00 Uhr
DESCRIPTION:
URL:https://www.schuhmeile.com/event/montag-bis-samstag-10-00-bis-18-00-uhr-2/2026-04-09/
LOCATION:Schuhmeile Hauenstein\, Hauenstein\, Rheinland-Pfalz\, Germany
CATEGORIES:Uhrzeiten für Header
END:VEVENT
BEGIN:VEVENT
DTSTART;TZID=Europe/Berlin:20260408T100000
DTEND;TZID=Europe/Berlin:20260408T180000
DTSTAMP:20260419T153830
CREATED:20251105T120018Z
LAST-MODIFIED:20251107T075849Z
UID:10001728-1775642400-1775671200@www.schuhmeile.com
SUMMARY:Schuhmeile geöffnet
DESCRIPTION:
URL:https://www.schuhmeile.com/event/schuhmeile-geoeffnet/2026-04-08/
LOCATION:Schuhmeile Hauenstein\, Hauenstein\, Rheinland-Pfalz\, Germany
CATEGORIES:Öffnungszeiten
END:VEVENT
BEGIN:VEVENT
DTSTART;TZID=Europe/Berlin:20260407T100000
DTEND;TZID=Europe/Berlin:20260407T180000
DTSTAMP:20260419T153830
CREATED:20251105T120018Z
LAST-MODIFIED:20251107T075849Z
UID:10001727-1775556000-1775584800@www.schuhmeile.com
SUMMARY:Schuhmeile geöffnet
DESCRIPTION:
URL:https://www.schuhmeile.com/event/schuhmeile-geoeffnet/2026-04-07/
LOCATION:Schuhmeile Hauenstein\, Hauenstein\, Rheinland-Pfalz\, Germany
CATEGORIES:Öffnungszeiten
END:VEVENT
BEGIN:VEVENT
DTSTART;TZID=Europe/Berlin:20260407T100000
DTEND;TZID=Europe/Berlin:20260407T153000
DTSTAMP:20260419T153830
CREATED:20251111T142204Z
LAST-MODIFIED:20251111T144150Z
UID:10009754-1775556000-1775575800@www.schuhmeile.com
SUMMARY:Open - Montag bis Samstag: 10.00 bis 18.00 Uhr
DESCRIPTION:
URL:https://www.schuhmeile.com/event/montag-bis-samstag-10-00-bis-18-00-uhr-2/2026-04-07/
LOCATION:Schuhmeile Hauenstein\, Hauenstein\, Rheinland-Pfalz\, Germany
CATEGORIES:Uhrzeiten für Header
END:VEVENT
BEGIN:VEVENT
DTSTART;TZID=Europe/Berlin:20260406T130000
DTEND;TZID=Europe/Berlin:20260406T180000
DTSTAMP:20260419T153830
CREATED:20251105T083255Z
LAST-MODIFIED:20251105T083255Z
UID:10000038-1775480400-1775498400@www.schuhmeile.com
SUMMARY:Ostermontag - Heute geöffnet
DESCRIPTION:Ostermontag geöffnet
URL:https://www.schuhmeile.com/event/ostermontag-heute-geoeffnet/
LOCATION:Schuhmeile Hauenstein\, Hauenstein\, Rheinland-Pfalz\, Germany
CATEGORIES:Öffnungszeiten
END:VEVENT
BEGIN:VEVENT
DTSTART;TZID=Europe/Berlin:20260406T100000
DTEND;TZID=Europe/Berlin:20260406T153000
DTSTAMP:20260419T153830
CREATED:20251111T142204Z
LAST-MODIFIED:20251111T144150Z
UID:10010359-1775469600-1775489400@www.schuhmeile.com
SUMMARY:Open - Montag bis Samstag: 10.00 bis 18.00 Uhr
DESCRIPTION:
URL:https://www.schuhmeile.com/event/montag-bis-samstag-10-00-bis-18-00-uhr-2/2026-04-06/
LOCATION:Schuhmeile Hauenstein\, Hauenstein\, Rheinland-Pfalz\, Germany
CATEGORIES:Uhrzeiten für Header
END:VEVENT
BEGIN:VEVENT
DTSTART;TZID=Europe/Berlin:20260405T130000
DTEND;TZID=Europe/Berlin:20260405T180000
DTSTAMP:20260419T153830
CREATED:20251104T121534Z
LAST-MODIFIED:20251106T150656Z
UID:10000006-1775394000-1775412000@www.schuhmeile.com
SUMMARY:Verkaufsoffener Sonntag
DESCRIPTION:Die Geschäfte der Schuhmeile haben von 13.00 bis 18.00 Uhr für Sie geöffnet.
URL:https://www.schuhmeile.com/event/verkaufsoffener-sonntag/2026-04-05/
LOCATION:Schuhmeile Hauenstein\, Hauenstein\, Rheinland-Pfalz\, Germany
CATEGORIES:Öffnungszeiten
END:VEVENT
BEGIN:VEVENT
DTSTART;VALUE=DATE:20260405
DTEND;VALUE=DATE:20260406
DTSTAMP:20260419T153830
CREATED:20251111T110340Z
LAST-MODIFIED:20251111T122627Z
UID:10011580-1775347200-1775433599@www.schuhmeile.com
SUMMARY:Heute geschlossen
DESCRIPTION:
URL:https://www.schuhmeile.com/event/heute-geschlossen-3/2026-04-05/
LOCATION:Schuhmeile Hauenstein\, Hauenstein\, Rheinland-Pfalz\, Germany
CATEGORIES:Uhrzeiten für Header
END:VEVENT
BEGIN:VEVENT
DTSTART;TZID=Europe/Berlin:20260404T100000
DTEND;TZID=Europe/Berlin:20260404T180000
DTSTAMP:20260419T153830
CREATED:20251105T120018Z
LAST-MODIFIED:20251107T075849Z
UID:10001369-1775296800-1775325600@www.schuhmeile.com
SUMMARY:Schuhmeile geöffnet
DESCRIPTION:
URL:https://www.schuhmeile.com/event/schuhmeile-geoeffnet/2026-04-04/
LOCATION:Schuhmeile Hauenstein\, Hauenstein\, Rheinland-Pfalz\, Germany
CATEGORIES:Öffnungszeiten
END:VEVENT
BEGIN:VEVENT
DTSTART;TZID=Europe/Berlin:20260404T100000
DTEND;TZID=Europe/Berlin:20260404T153000
DTSTAMP:20260419T153830
CREATED:20251111T142204Z
LAST-MODIFIED:20251111T144150Z
UID:10010358-1775296800-1775316600@www.schuhmeile.com
SUMMARY:Open - Montag bis Samstag: 10.00 bis 18.00 Uhr
DESCRIPTION:
URL:https://www.schuhmeile.com/event/montag-bis-samstag-10-00-bis-18-00-uhr-2/2026-04-04/
LOCATION:Schuhmeile Hauenstein\, Hauenstein\, Rheinland-Pfalz\, Germany
CATEGORIES:Uhrzeiten für Header
END:VEVENT
BEGIN:VEVENT
DTSTART;TZID=Europe/Berlin:20260403T100000
DTEND;TZID=Europe/Berlin:20260403T153000
DTSTAMP:20260419T153830
CREATED:20251111T142204Z
LAST-MODIFIED:20251111T144150Z
UID:10010357-1775210400-1775230200@www.schuhmeile.com
SUMMARY:Open - Montag bis Samstag: 10.00 bis 18.00 Uhr
DESCRIPTION:
URL:https://www.schuhmeile.com/event/montag-bis-samstag-10-00-bis-18-00-uhr-2/2026-04-03/
LOCATION:Schuhmeile Hauenstein\, Hauenstein\, Rheinland-Pfalz\, Germany
CATEGORIES:Uhrzeiten für Header
END:VEVENT
BEGIN:VEVENT
DTSTART;VALUE=DATE:20260403
DTEND;VALUE=DATE:20260404
DTSTAMP:20260419T153830
CREATED:20251104T141628Z
LAST-MODIFIED:20251105T083134Z
UID:10000036-1775174400-1775260799@www.schuhmeile.com
SUMMARY:Karfreitag -Heute geschlossen
DESCRIPTION:Karfreitag geschlossen
URL:https://www.schuhmeile.com/event/heute-geschlossen/
LOCATION:Schuhmeile Hauenstein\, Hauenstein\, Rheinland-Pfalz\, Germany
CATEGORIES:Öffnungszeiten
END:VEVENT
END:VCALENDAR