BEGIN:VCALENDAR
VERSION:2.0
PRODID:-//schuhmeile.com - ECPv6.15.20//NONSGML v1.0//EN
CALSCALE:GREGORIAN
METHOD:PUBLISH
X-ORIGINAL-URL:https://www.schuhmeile.com
X-WR-CALDESC:Veranstaltungen für schuhmeile.com
REFRESH-INTERVAL;VALUE=DURATION:PT1H
X-Robots-Tag:noindex
X-PUBLISHED-TTL:PT1H
BEGIN:VTIMEZONE
TZID:Europe/Berlin
BEGIN:DAYLIGHT
TZOFFSETFROM:+0100
TZOFFSETTO:+0200
TZNAME:CEST
DTSTART:20250330T010000
END:DAYLIGHT
BEGIN:STANDARD
TZOFFSETFROM:+0200
TZOFFSETTO:+0100
TZNAME:CET
DTSTART:20251026T010000
END:STANDARD
BEGIN:DAYLIGHT
TZOFFSETFROM:+0100
TZOFFSETTO:+0200
TZNAME:CEST
DTSTART:20260329T010000
END:DAYLIGHT
BEGIN:STANDARD
TZOFFSETFROM:+0200
TZOFFSETTO:+0100
TZNAME:CET
DTSTART:20261025T010000
END:STANDARD
BEGIN:DAYLIGHT
TZOFFSETFROM:+0100
TZOFFSETTO:+0200
TZNAME:CEST
DTSTART:20270328T010000
END:DAYLIGHT
BEGIN:STANDARD
TZOFFSETFROM:+0200
TZOFFSETTO:+0100
TZNAME:CET
DTSTART:20271031T010000
END:STANDARD
END:VTIMEZONE
BEGIN:VEVENT
DTSTART;TZID=Europe/Berlin:20260502T100000
DTEND;TZID=Europe/Berlin:20260502T153000
DTSTAMP:20260419T165839
CREATED:20251111T142204Z
LAST-MODIFIED:20251111T144150Z
UID:10010378-1777716000-1777735800@www.schuhmeile.com
SUMMARY:Open - Montag bis Samstag: 10.00 bis 18.00 Uhr
DESCRIPTION:
URL:https://www.schuhmeile.com/event/montag-bis-samstag-10-00-bis-18-00-uhr-2/2026-05-02/
LOCATION:Schuhmeile Hauenstein\, Hauenstein\, Rheinland-Pfalz\, Germany
CATEGORIES:Uhrzeiten für Header
END:VEVENT
BEGIN:VEVENT
DTSTART;TZID=Europe/Berlin:20260502T100000
DTEND;TZID=Europe/Berlin:20260502T180000
DTSTAMP:20260419T165839
CREATED:20251105T120018Z
LAST-MODIFIED:20251107T075849Z
UID:10001373-1777716000-1777744800@www.schuhmeile.com
SUMMARY:Schuhmeile geöffnet
DESCRIPTION:
URL:https://www.schuhmeile.com/event/schuhmeile-geoeffnet/2026-05-02/
LOCATION:Schuhmeile Hauenstein\, Hauenstein\, Rheinland-Pfalz\, Germany
CATEGORIES:Öffnungszeiten
END:VEVENT
BEGIN:VEVENT
DTSTART;VALUE=DATE:20260503
DTEND;VALUE=DATE:20260504
DTSTAMP:20260419T165839
CREATED:20251111T110340Z
LAST-MODIFIED:20251111T122627Z
UID:10011584-1777766400-1777852799@www.schuhmeile.com
SUMMARY:Heute geschlossen
DESCRIPTION:
URL:https://www.schuhmeile.com/event/heute-geschlossen-3/2026-05-03/
LOCATION:Schuhmeile Hauenstein\, Hauenstein\, Rheinland-Pfalz\, Germany
CATEGORIES:Uhrzeiten für Header
END:VEVENT
BEGIN:VEVENT
DTSTART;TZID=Europe/Berlin:20260503T130000
DTEND;TZID=Europe/Berlin:20260503T180000
DTSTAMP:20260419T165839
CREATED:20251104T121534Z
LAST-MODIFIED:20251106T150656Z
UID:10000010-1777813200-1777831200@www.schuhmeile.com
SUMMARY:Verkaufsoffener Sonntag
DESCRIPTION:Die Geschäfte der Schuhmeile haben von 13.00 bis 18.00 Uhr für Sie geöffnet.
URL:https://www.schuhmeile.com/event/verkaufsoffener-sonntag/2026-05-03/
LOCATION:Schuhmeile Hauenstein\, Hauenstein\, Rheinland-Pfalz\, Germany
CATEGORIES:Öffnungszeiten
END:VEVENT
BEGIN:VEVENT
DTSTART;TZID=Europe/Berlin:20260504T100000
DTEND;TZID=Europe/Berlin:20260504T153000
DTSTAMP:20260419T165839
CREATED:20251111T142204Z
LAST-MODIFIED:20251111T144150Z
UID:10010379-1777888800-1777908600@www.schuhmeile.com
SUMMARY:Open - Montag bis Samstag: 10.00 bis 18.00 Uhr
DESCRIPTION:
URL:https://www.schuhmeile.com/event/montag-bis-samstag-10-00-bis-18-00-uhr-2/2026-05-04/
LOCATION:Schuhmeile Hauenstein\, Hauenstein\, Rheinland-Pfalz\, Germany
CATEGORIES:Uhrzeiten für Header
END:VEVENT
BEGIN:VEVENT
DTSTART;TZID=Europe/Berlin:20260504T100000
DTEND;TZID=Europe/Berlin:20260504T180000
DTSTAMP:20260419T165839
CREATED:20251105T120018Z
LAST-MODIFIED:20251107T075849Z
UID:10001746-1777888800-1777917600@www.schuhmeile.com
SUMMARY:Schuhmeile geöffnet
DESCRIPTION:
URL:https://www.schuhmeile.com/event/schuhmeile-geoeffnet/2026-05-04/
LOCATION:Schuhmeile Hauenstein\, Hauenstein\, Rheinland-Pfalz\, Germany
CATEGORIES:Öffnungszeiten
END:VEVENT
BEGIN:VEVENT
DTSTART;TZID=Europe/Berlin:20260505T100000
DTEND;TZID=Europe/Berlin:20260505T153000
DTSTAMP:20260419T165839
CREATED:20251111T142204Z
LAST-MODIFIED:20251111T144150Z
UID:10009758-1777975200-1777995000@www.schuhmeile.com
SUMMARY:Open - Montag bis Samstag: 10.00 bis 18.00 Uhr
DESCRIPTION:
URL:https://www.schuhmeile.com/event/montag-bis-samstag-10-00-bis-18-00-uhr-2/2026-05-05/
LOCATION:Schuhmeile Hauenstein\, Hauenstein\, Rheinland-Pfalz\, Germany
CATEGORIES:Uhrzeiten für Header
END:VEVENT
BEGIN:VEVENT
DTSTART;TZID=Europe/Berlin:20260505T100000
DTEND;TZID=Europe/Berlin:20260505T180000
DTSTAMP:20260419T165839
CREATED:20251105T120018Z
LAST-MODIFIED:20251107T075849Z
UID:10001747-1777975200-1778004000@www.schuhmeile.com
SUMMARY:Schuhmeile geöffnet
DESCRIPTION:
URL:https://www.schuhmeile.com/event/schuhmeile-geoeffnet/2026-05-05/
LOCATION:Schuhmeile Hauenstein\, Hauenstein\, Rheinland-Pfalz\, Germany
CATEGORIES:Öffnungszeiten
END:VEVENT
BEGIN:VEVENT
DTSTART;TZID=Europe/Berlin:20260506T100000
DTEND;TZID=Europe/Berlin:20260506T180000
DTSTAMP:20260419T165839
CREATED:20251105T120018Z
LAST-MODIFIED:20251107T075849Z
UID:10001748-1778061600-1778090400@www.schuhmeile.com
SUMMARY:Schuhmeile geöffnet
DESCRIPTION:
URL:https://www.schuhmeile.com/event/schuhmeile-geoeffnet/2026-05-06/
LOCATION:Schuhmeile Hauenstein\, Hauenstein\, Rheinland-Pfalz\, Germany
CATEGORIES:Öffnungszeiten
END:VEVENT
BEGIN:VEVENT
DTSTART;TZID=Europe/Berlin:20260507T100000
DTEND;TZID=Europe/Berlin:20260507T153000
DTSTAMP:20260419T165839
CREATED:20251111T142204Z
LAST-MODIFIED:20251111T144150Z
UID:10010381-1778148000-1778167800@www.schuhmeile.com
SUMMARY:Open - Montag bis Samstag: 10.00 bis 18.00 Uhr
DESCRIPTION:
URL:https://www.schuhmeile.com/event/montag-bis-samstag-10-00-bis-18-00-uhr-2/2026-05-07/
LOCATION:Schuhmeile Hauenstein\, Hauenstein\, Rheinland-Pfalz\, Germany
CATEGORIES:Uhrzeiten für Header
END:VEVENT
BEGIN:VEVENT
DTSTART;TZID=Europe/Berlin:20260507T100000
DTEND;TZID=Europe/Berlin:20260507T180000
DTSTAMP:20260419T165839
CREATED:20251105T120018Z
LAST-MODIFIED:20251107T075849Z
UID:10000174-1778148000-1778176800@www.schuhmeile.com
SUMMARY:Schuhmeile geöffnet
DESCRIPTION:
URL:https://www.schuhmeile.com/event/schuhmeile-geoeffnet/2026-05-07/
LOCATION:Schuhmeile Hauenstein\, Hauenstein\, Rheinland-Pfalz\, Germany
CATEGORIES:Öffnungszeiten
END:VEVENT
BEGIN:VEVENT
DTSTART;TZID=Europe/Berlin:20260508T100000
DTEND;TZID=Europe/Berlin:20260508T153000
DTSTAMP:20260419T165839
CREATED:20251111T142204Z
LAST-MODIFIED:20251111T144150Z
UID:10010382-1778234400-1778254200@www.schuhmeile.com
SUMMARY:Open - Montag bis Samstag: 10.00 bis 18.00 Uhr
DESCRIPTION:
URL:https://www.schuhmeile.com/event/montag-bis-samstag-10-00-bis-18-00-uhr-2/2026-05-08/
LOCATION:Schuhmeile Hauenstein\, Hauenstein\, Rheinland-Pfalz\, Germany
CATEGORIES:Uhrzeiten für Header
END:VEVENT
BEGIN:VEVENT
DTSTART;TZID=Europe/Berlin:20260508T100000
DTEND;TZID=Europe/Berlin:20260508T180000
DTSTAMP:20260419T165839
CREATED:20251105T120018Z
LAST-MODIFIED:20251107T075849Z
UID:10001749-1778234400-1778263200@www.schuhmeile.com
SUMMARY:Schuhmeile geöffnet
DESCRIPTION:
URL:https://www.schuhmeile.com/event/schuhmeile-geoeffnet/2026-05-08/
LOCATION:Schuhmeile Hauenstein\, Hauenstein\, Rheinland-Pfalz\, Germany
CATEGORIES:Öffnungszeiten
END:VEVENT
BEGIN:VEVENT
DTSTART;TZID=Europe/Berlin:20260509T100000
DTEND;TZID=Europe/Berlin:20260509T153000
DTSTAMP:20260419T165839
CREATED:20251111T142204Z
LAST-MODIFIED:20251111T144150Z
UID:10010383-1778320800-1778340600@www.schuhmeile.com
SUMMARY:Open - Montag bis Samstag: 10.00 bis 18.00 Uhr
DESCRIPTION:
URL:https://www.schuhmeile.com/event/montag-bis-samstag-10-00-bis-18-00-uhr-2/2026-05-09/
LOCATION:Schuhmeile Hauenstein\, Hauenstein\, Rheinland-Pfalz\, Germany
CATEGORIES:Uhrzeiten für Header
END:VEVENT
BEGIN:VEVENT
DTSTART;TZID=Europe/Berlin:20260509T100000
DTEND;TZID=Europe/Berlin:20260509T180000
DTSTAMP:20260419T165839
CREATED:20251105T120018Z
LAST-MODIFIED:20251107T075849Z
UID:10001374-1778320800-1778349600@www.schuhmeile.com
SUMMARY:Schuhmeile geöffnet
DESCRIPTION:
URL:https://www.schuhmeile.com/event/schuhmeile-geoeffnet/2026-05-09/
LOCATION:Schuhmeile Hauenstein\, Hauenstein\, Rheinland-Pfalz\, Germany
CATEGORIES:Öffnungszeiten
END:VEVENT
BEGIN:VEVENT
DTSTART;VALUE=DATE:20260510
DTEND;VALUE=DATE:20260511
DTSTAMP:20260419T165839
CREATED:20251111T110340Z
LAST-MODIFIED:20251111T122627Z
UID:10011585-1778371200-1778457599@www.schuhmeile.com
SUMMARY:Heute geschlossen
DESCRIPTION:
URL:https://www.schuhmeile.com/event/heute-geschlossen-3/2026-05-10/
LOCATION:Schuhmeile Hauenstein\, Hauenstein\, Rheinland-Pfalz\, Germany
CATEGORIES:Uhrzeiten für Header
END:VEVENT
BEGIN:VEVENT
DTSTART;TZID=Europe/Berlin:20260510T130000
DTEND;TZID=Europe/Berlin:20260510T180000
DTSTAMP:20260419T165839
CREATED:20251104T121534Z
LAST-MODIFIED:20251106T150656Z
UID:10000011-1778418000-1778436000@www.schuhmeile.com
SUMMARY:Verkaufsoffener Sonntag
DESCRIPTION:Die Geschäfte der Schuhmeile haben von 13.00 bis 18.00 Uhr für Sie geöffnet.
URL:https://www.schuhmeile.com/event/verkaufsoffener-sonntag/2026-05-10/
LOCATION:Schuhmeile Hauenstein\, Hauenstein\, Rheinland-Pfalz\, Germany
CATEGORIES:Öffnungszeiten
END:VEVENT
BEGIN:VEVENT
DTSTART;TZID=Europe/Berlin:20260511T100000
DTEND;TZID=Europe/Berlin:20260511T153000
DTSTAMP:20260419T165839
CREATED:20251111T142204Z
LAST-MODIFIED:20251111T144150Z
UID:10010384-1778493600-1778513400@www.schuhmeile.com
SUMMARY:Open - Montag bis Samstag: 10.00 bis 18.00 Uhr
DESCRIPTION:
URL:https://www.schuhmeile.com/event/montag-bis-samstag-10-00-bis-18-00-uhr-2/2026-05-11/
LOCATION:Schuhmeile Hauenstein\, Hauenstein\, Rheinland-Pfalz\, Germany
CATEGORIES:Uhrzeiten für Header
END:VEVENT
BEGIN:VEVENT
DTSTART;TZID=Europe/Berlin:20260511T100000
DTEND;TZID=Europe/Berlin:20260511T180000
DTSTAMP:20260419T165839
CREATED:20251105T120018Z
LAST-MODIFIED:20251107T075849Z
UID:10001751-1778493600-1778522400@www.schuhmeile.com
SUMMARY:Schuhmeile geöffnet
DESCRIPTION:
URL:https://www.schuhmeile.com/event/schuhmeile-geoeffnet/2026-05-11/
LOCATION:Schuhmeile Hauenstein\, Hauenstein\, Rheinland-Pfalz\, Germany
CATEGORIES:Öffnungszeiten
END:VEVENT
BEGIN:VEVENT
DTSTART;TZID=Europe/Berlin:20260512T100000
DTEND;TZID=Europe/Berlin:20260512T153000
DTSTAMP:20260419T165839
CREATED:20251111T142204Z
LAST-MODIFIED:20251111T144150Z
UID:10009759-1778580000-1778599800@www.schuhmeile.com
SUMMARY:Open - Montag bis Samstag: 10.00 bis 18.00 Uhr
DESCRIPTION:
URL:https://www.schuhmeile.com/event/montag-bis-samstag-10-00-bis-18-00-uhr-2/2026-05-12/
LOCATION:Schuhmeile Hauenstein\, Hauenstein\, Rheinland-Pfalz\, Germany
CATEGORIES:Uhrzeiten für Header
END:VEVENT
BEGIN:VEVENT
DTSTART;TZID=Europe/Berlin:20260512T100000
DTEND;TZID=Europe/Berlin:20260512T180000
DTSTAMP:20260419T165839
CREATED:20251105T120018Z
LAST-MODIFIED:20251107T075849Z
UID:10001752-1778580000-1778608800@www.schuhmeile.com
SUMMARY:Schuhmeile geöffnet
DESCRIPTION:
URL:https://www.schuhmeile.com/event/schuhmeile-geoeffnet/2026-05-12/
LOCATION:Schuhmeile Hauenstein\, Hauenstein\, Rheinland-Pfalz\, Germany
CATEGORIES:Öffnungszeiten
END:VEVENT
BEGIN:VEVENT
DTSTART;TZID=Europe/Berlin:20260513T100000
DTEND;TZID=Europe/Berlin:20260513T180000
DTSTAMP:20260419T165839
CREATED:20251105T120018Z
LAST-MODIFIED:20251107T075849Z
UID:10001753-1778666400-1778695200@www.schuhmeile.com
SUMMARY:Schuhmeile geöffnet
DESCRIPTION:
URL:https://www.schuhmeile.com/event/schuhmeile-geoeffnet/2026-05-13/
LOCATION:Schuhmeile Hauenstein\, Hauenstein\, Rheinland-Pfalz\, Germany
CATEGORIES:Öffnungszeiten
END:VEVENT
BEGIN:VEVENT
DTSTART;TZID=Europe/Berlin:20260514T100000
DTEND;TZID=Europe/Berlin:20260514T153000
DTSTAMP:20260419T165839
CREATED:20251111T142204Z
LAST-MODIFIED:20251111T144150Z
UID:10010386-1778752800-1778772600@www.schuhmeile.com
SUMMARY:Open - Montag bis Samstag: 10.00 bis 18.00 Uhr
DESCRIPTION:
URL:https://www.schuhmeile.com/event/montag-bis-samstag-10-00-bis-18-00-uhr-2/2026-05-14/
LOCATION:Schuhmeile Hauenstein\, Hauenstein\, Rheinland-Pfalz\, Germany
CATEGORIES:Uhrzeiten für Header
END:VEVENT
BEGIN:VEVENT
DTSTART;TZID=Europe/Berlin:20260514T130000
DTEND;TZID=Europe/Berlin:20260514T180000
DTSTAMP:20260419T165839
CREATED:20251105T083604Z
LAST-MODIFIED:20251105T083604Z
UID:10000040-1778763600-1778781600@www.schuhmeile.com
SUMMARY:Christi Himmelfahrt - Heute geöffnet
DESCRIPTION:Christi Himmelfahrt geöffnet
URL:https://www.schuhmeile.com/event/christi-himmelfahrt-heute-geoeffnet/
LOCATION:Schuhmeile Hauenstein\, Hauenstein\, Rheinland-Pfalz\, Germany
CATEGORIES:Öffnungszeiten
END:VEVENT
BEGIN:VEVENT
DTSTART;TZID=Europe/Berlin:20260515T100000
DTEND;TZID=Europe/Berlin:20260515T153000
DTSTAMP:20260419T165839
CREATED:20251111T142204Z
LAST-MODIFIED:20251111T144150Z
UID:10010387-1778839200-1778859000@www.schuhmeile.com
SUMMARY:Open - Montag bis Samstag: 10.00 bis 18.00 Uhr
DESCRIPTION:
URL:https://www.schuhmeile.com/event/montag-bis-samstag-10-00-bis-18-00-uhr-2/2026-05-15/
LOCATION:Schuhmeile Hauenstein\, Hauenstein\, Rheinland-Pfalz\, Germany
CATEGORIES:Uhrzeiten für Header
END:VEVENT
BEGIN:VEVENT
DTSTART;TZID=Europe/Berlin:20260515T100000
DTEND;TZID=Europe/Berlin:20260515T180000
DTSTAMP:20260419T165839
CREATED:20251105T120018Z
LAST-MODIFIED:20251107T075849Z
UID:10001754-1778839200-1778868000@www.schuhmeile.com
SUMMARY:Schuhmeile geöffnet
DESCRIPTION:
URL:https://www.schuhmeile.com/event/schuhmeile-geoeffnet/2026-05-15/
LOCATION:Schuhmeile Hauenstein\, Hauenstein\, Rheinland-Pfalz\, Germany
CATEGORIES:Öffnungszeiten
END:VEVENT
BEGIN:VEVENT
DTSTART;TZID=Europe/Berlin:20260516T100000
DTEND;TZID=Europe/Berlin:20260516T153000
DTSTAMP:20260419T165839
CREATED:20251111T142204Z
LAST-MODIFIED:20251111T144150Z
UID:10010388-1778925600-1778945400@www.schuhmeile.com
SUMMARY:Open - Montag bis Samstag: 10.00 bis 18.00 Uhr
DESCRIPTION:
URL:https://www.schuhmeile.com/event/montag-bis-samstag-10-00-bis-18-00-uhr-2/2026-05-16/
LOCATION:Schuhmeile Hauenstein\, Hauenstein\, Rheinland-Pfalz\, Germany
CATEGORIES:Uhrzeiten für Header
END:VEVENT
BEGIN:VEVENT
DTSTART;TZID=Europe/Berlin:20260516T100000
DTEND;TZID=Europe/Berlin:20260516T180000
DTSTAMP:20260419T165839
CREATED:20251105T120018Z
LAST-MODIFIED:20251107T075849Z
UID:10001375-1778925600-1778954400@www.schuhmeile.com
SUMMARY:Schuhmeile geöffnet
DESCRIPTION:
URL:https://www.schuhmeile.com/event/schuhmeile-geoeffnet/2026-05-16/
LOCATION:Schuhmeile Hauenstein\, Hauenstein\, Rheinland-Pfalz\, Germany
CATEGORIES:Öffnungszeiten
END:VEVENT
BEGIN:VEVENT
DTSTART;VALUE=DATE:20260517
DTEND;VALUE=DATE:20260518
DTSTAMP:20260419T165839
CREATED:20251111T110340Z
LAST-MODIFIED:20251111T122627Z
UID:10011586-1778976000-1779062399@www.schuhmeile.com
SUMMARY:Heute geschlossen
DESCRIPTION:
URL:https://www.schuhmeile.com/event/heute-geschlossen-3/2026-05-17/
LOCATION:Schuhmeile Hauenstein\, Hauenstein\, Rheinland-Pfalz\, Germany
CATEGORIES:Uhrzeiten für Header
END:VEVENT
BEGIN:VEVENT
DTSTART;TZID=Europe/Berlin:20260517T130000
DTEND;TZID=Europe/Berlin:20260517T180000
DTSTAMP:20260419T165839
CREATED:20251104T121534Z
LAST-MODIFIED:20251106T150656Z
UID:10000012-1779022800-1779040800@www.schuhmeile.com
SUMMARY:Verkaufsoffener Sonntag
DESCRIPTION:Die Geschäfte der Schuhmeile haben von 13.00 bis 18.00 Uhr für Sie geöffnet.
URL:https://www.schuhmeile.com/event/verkaufsoffener-sonntag/2026-05-17/
LOCATION:Schuhmeile Hauenstein\, Hauenstein\, Rheinland-Pfalz\, Germany
CATEGORIES:Öffnungszeiten
END:VEVENT
END:VCALENDAR